BEGIN:VCALENDAR
VERSION:2.0
PRODID:-//Kreativlabor Freiham - ECPv6.15.20//NONSGML v1.0//EN
CALSCALE:GREGORIAN
METHOD:PUBLISH
X-WR-CALNAME:Kreativlabor Freiham
X-ORIGINAL-URL:https://kreativlabor-freiham.de
X-WR-CALDESC:Veranstaltungen für Kreativlabor Freiham
REFRESH-INTERVAL;VALUE=DURATION:PT1H
X-Robots-Tag:noindex
X-PUBLISHED-TTL:PT1H
BEGIN:VTIMEZONE
TZID:Europe/Berlin
BEGIN:DAYLIGHT
TZOFFSETFROM:+0100
TZOFFSETTO:+0200
TZNAME:CEST
DTSTART:20240331T010000
END:DAYLIGHT
BEGIN:STANDARD
TZOFFSETFROM:+0200
TZOFFSETTO:+0100
TZNAME:CET
DTSTART:20241027T010000
END:STANDARD
BEGIN:DAYLIGHT
TZOFFSETFROM:+0100
TZOFFSETTO:+0200
TZNAME:CEST
DTSTART:20250330T010000
END:DAYLIGHT
BEGIN:STANDARD
TZOFFSETFROM:+0200
TZOFFSETTO:+0100
TZNAME:CET
DTSTART:20251026T010000
END:STANDARD
BEGIN:DAYLIGHT
TZOFFSETFROM:+0100
TZOFFSETTO:+0200
TZNAME:CEST
DTSTART:20260329T010000
END:DAYLIGHT
BEGIN:STANDARD
TZOFFSETFROM:+0200
TZOFFSETTO:+0100
TZNAME:CET
DTSTART:20261025T010000
END:STANDARD
END:VTIMEZONE
BEGIN:VEVENT
DTSTART;TZID=Europe/Berlin:20251205T150000
DTEND;TZID=Europe/Berlin:20251205T170000
DTSTAMP:20260421T103606
CREATED:20250721T083457Z
LAST-MODIFIED:20251201T132338Z
UID:1838-1764946800-1764954000@kreativlabor-freiham.de
SUMMARY:Grüne Oase: Talking Plants
DESCRIPTION:Grüne Oase: Talking Plants – Wenn deine Pflanze sprechen könnte\nStell dir vor\, deine Zimmerpflanze könnte dir sagen\, wann sie Durst hat – ganz laut und deutlich! \nIn unserem spannenden 10-wöchigen Kurs bauen wir genau das:\nEine sprechende Pflanze mit einem automatischen Gießsystem!  \nDu interessierst dich für Computer\, Programmieren und Elektronik? Dann bist du bei uns genau richtig! Wir zeigen dir\, wie du mit dem Raspberry Pi Pico arbeitest\, wie du Sensoren und Motoren anschließt und alles mit MicroBlocks steuerst – ganz einfach und bunt! Deine Pflanze wird dir über dein Hand mitteilen\, ob sie Wasser braucht – und wenn du willst\, gießt das System sogar ganz von allein! Am Ende bist du ein richtiger Technik-Profi und kannst eigene verrückte Projekte bauen. \nTermine\nDer Kurs geht von September bis Dezember 2025 über insg. 10 Wochen. Die Termine sind jeweils freitags von 15:00 – 17:00 Uhr (außer in den Schulferien). \nStart: 19. September; Ende: 05. Dezember 2025\, jeweils 15:00 – 17:00 Uhr \nAnmeldung\nDer Kurs ist für Kinder und Jugendliche zwischen 10 und 14 Jahren. Wir freuen uns über alle Interessierten\, egal ob Jungen\, Mädchen oder divers! Für den Kurs sind keine Vorerfahrungen nötig. \nEine Teilnahme ist nur mit Anmeldung per Formular möglich. \nKooperation\n\nDas Projekt Grüne Oase wird gefördert im Rahmen von Labs4Future und findet in Kooperation mit dem Bildungslokal Freiham (Referat für Bildung und Sport der LHM) statt.
URL:https://kreativlabor-freiham.de/termine-sin/grueneoase_talkingplants/
LOCATION:Kreativlabor Freiham\, Ute-Strittmatter-Straße 6\, München\, 81248\, Deutschland
ATTACH;FMTTYPE=image/png:https://kreativlabor-freiham.de/wp-content/uploads/2025/07/KL_GrueneOase_Plants.png
ORGANIZER;CN="SIN - Studio im Netz e.V.":MAILTO:medien@kreativlabor-freiham.de
END:VEVENT
BEGIN:VEVENT
DTSTART;TZID=Europe/Berlin:20251212T150000
DTEND;TZID=Europe/Berlin:20251212T170000
DTSTAMP:20260421T103606
CREATED:20251203T113501Z
LAST-MODIFIED:20251203T113501Z
UID:1999-1765551600-1765558800@kreativlabor-freiham.de
SUMMARY:Abschlusspräsentation "Grüne Oase"
DESCRIPTION:Am Freitag\, den 12. Dezember 2025 steht die Abschlusspräsentation unseres Projekts „Grüne Oase“ an\, sie findet zwischen 15 und 17 Uhr im Kreativlabor Freiham statt. \nIn vier Workshops haben sich Jugendliche mit Fragen zu einer nachhaltigen Lebensweise beschäftigt. Sie widmeten sich dem „Verkehr der Zukunft“\, der „Welt von morgen“\, entwickelten „Green Games“ und programmierten „talking plants“. \nZur abschließenden Ergebnispräsentation sind alle Interessierten herzlich eingeladen! Dann werden wir auch einen Ausblick auf die neuen Angebote im Jahr 2026 werfen. \nDas Projekt „Grüne Oase“ wird gefördert im Rahmen von „Labs4Future“ des JFF und findet in Kooperation mit dem Bildungslokal Freiham (Referat für Bildung und Sport der LHM) statt.\nRealisiert wurden die Workshops von Attila Strba und Florian Lohmann für das „SIN – Studio im Netz“. \nWir freuen uns auf Ihren und euren Besuch! Eine Anmeldung ist nicht erforderlich.
URL:https://kreativlabor-freiham.de/termine-sin/abschlusspraesentation-gruene-oase/
LOCATION:Kreativlabor Freiham\, Ute-Strittmatter-Straße 6\, München\, 81248\, Deutschland
ATTACH;FMTTYPE=image/png:https://kreativlabor-freiham.de/wp-content/uploads/2025/12/Gruene-Oase-Abschlusspraesentation.png
ORGANIZER;CN="SIN - Studio im Netz e.V.":MAILTO:medien@kreativlabor-freiham.de
END:VEVENT
BEGIN:VEVENT
DTSTART;TZID=Europe/Berlin:20251218T160000
DTEND;TZID=Europe/Berlin:20251218T173000
DTSTAMP:20260421T103606
CREATED:20240906T083240Z
LAST-MODIFIED:20251201T130433Z
UID:1609-1766073600-1766079000@kreativlabor-freiham.de
SUMMARY:KABU-Kinderredaktion
DESCRIPTION:KABU-Kinderredaktion\nHast du Interesse daran\, eigene Info-Videos oder Beitrags-Texte zu gestalten? Dann komm zu unserem Kinder-Redaktionstreffen ins Kreativlabor.\nJunge Reporter*innen im Alter von 8 bis 12 Jahren sind herzlich eingeladen\, spannende Themen und eigene Ideen einzubringen. Die Ergebnisse werden in der App KABU veröffentlicht. \nKABU ist eine kostenlose Info-App\, die unterhaltsame und wissenswerte Inhalte für Kinder bereithält. Die App ist kostenlos und werbefrei für Android & iOS verfügbar und wird als medienpädagogisches Projekt von „SIN – Studio im Netz“ betreut. Weitere Informationen dazu finden sich unter www.kabu-app.de. \nTermine:\nDie Redaktion trifft sich monatlich (außer in den Schulferien)\, immer am ersten Donnerstag im Monat von 16:00 – 17:30 Uhr. \n\nDo\,18. Dezember 2025  \nDo\, 5. Februar 2026\nDo\, 5. März 2026\nDo\, 9. April 2026\nDo\, 7. Mai 2026\nDo\, 11. Juni 2026\nDo\, 2. Juli 2026\n\nTeilnahme\nDie Teilnahme an der Redaktion ist kostenlos\, eine Anmeldung ist erforderlich. Hier geht es zum Anmeldeformular.\n \n 
URL:https://kreativlabor-freiham.de/termine-sin/kabu-kinderredaktion/
LOCATION:Kreativlabor Freiham\, Ute-Strittmatter-Straße 6\, München\, 81248\, Deutschland
ATTACH;FMTTYPE=image/png:https://kreativlabor-freiham.de/wp-content/uploads/2024/09/Kinderredaktion_Grafik.png
ORGANIZER;CN="SIN - Studio im Netz e.V.":MAILTO:medien@kreativlabor-freiham.de
END:VEVENT
END:VCALENDAR