BEGIN:VCALENDAR
VERSION:2.0
PRODID:-//Kreativlabor Freiham - ECPv6.15.20//NONSGML v1.0//EN
CALSCALE:GREGORIAN
METHOD:PUBLISH
X-ORIGINAL-URL:https://kreativlabor-freiham.de
X-WR-CALDESC:Veranstaltungen für Kreativlabor Freiham
REFRESH-INTERVAL;VALUE=DURATION:PT1H
X-Robots-Tag:noindex
X-PUBLISHED-TTL:PT1H
BEGIN:VTIMEZONE
TZID:Europe/Berlin
BEGIN:DAYLIGHT
TZOFFSETFROM:+0100
TZOFFSETTO:+0200
TZNAME:CEST
DTSTART:20240331T010000
END:DAYLIGHT
BEGIN:STANDARD
TZOFFSETFROM:+0200
TZOFFSETTO:+0100
TZNAME:CET
DTSTART:20241027T010000
END:STANDARD
BEGIN:DAYLIGHT
TZOFFSETFROM:+0100
TZOFFSETTO:+0200
TZNAME:CEST
DTSTART:20250330T010000
END:DAYLIGHT
BEGIN:STANDARD
TZOFFSETFROM:+0200
TZOFFSETTO:+0100
TZNAME:CET
DTSTART:20251026T010000
END:STANDARD
BEGIN:DAYLIGHT
TZOFFSETFROM:+0100
TZOFFSETTO:+0200
TZNAME:CEST
DTSTART:20260329T010000
END:DAYLIGHT
BEGIN:STANDARD
TZOFFSETFROM:+0200
TZOFFSETTO:+0100
TZNAME:CET
DTSTART:20261025T010000
END:STANDARD
END:VTIMEZONE
BEGIN:VEVENT
DTSTART;TZID=Europe/Berlin:20250719T140000
DTEND;TZID=Europe/Berlin:20250719T180000
DTSTAMP:20260423T115929
CREATED:20250701T112319Z
LAST-MODIFIED:20250701T112319Z
UID:1826-1752933600-1752948000@kreativlabor-freiham.de
SUMMARY:MINT-MEDIEN- Mitmachparcours
DESCRIPTION:MINT-MEDIEN- Mitmachparcours\nWir vom SIN – Studio im Netz und Little Lab laden Kinder\, Jugendliche\, Familien sowie alle Technikbegeisterten herzlich ein\, einen Tag voller kreativer Mitmachangebote im Kreativlabor Freiham zu erleben. \nEntdecken Sie mit uns die faszinierende Welt von Wissenschaft\, Technik und Medien!\nAn zahlreichen interaktiven Stationen können Besucher*innen experimentieren\, gestalten\, tüfteln und staunen. \nFreuen Sie sich auf spannende Highlights wie: \nMikroskopieren mit professionellen Laborgeräten – werfen Sie faszinierende Blicke in die Welt des Winzigen.\nGaming-Station – entwickeln Sie eigene Games und testen Ihr Geschick in kleinen Turnieren.\nChemie zum Anfassen – Experimente zum Mitmachen und Staunen.\nRoboter live erleben – Technik zum Ausprobieren und Verstehen. \nDarüber hinaus können Sie 3D-Druck in Aktion erleben\, eigene Taschenlampen basteln und Geschicklichkeitsspiele wie den „Heißer Draht“ bauen oder mithilfe des Strom-Fahrrads ein eigenes Sommergetränk mixen. \nTermin\n\n19.07.2025\, 14-18 Uhr\n\nAnmeldung\nDas Angebot richtet sich an alle Altersgruppen – Kinder\, Jugendliche\, Erwachsene. Für alle ist etwas dabei! \nEintritt frei – eine Anmeldung ist nicht erforderlich.\nKommen Sie vorbei\, wir feuen uns!
URL:https://kreativlabor-freiham.de/termine-sin/mitmachparcours/
LOCATION:Kreativlabor Freiham\, Ute-Strittmatter-Straße 6\, München\, 81248\, Deutschland
ATTACH;FMTTYPE=image/png:https://kreativlabor-freiham.de/wp-content/uploads/2025/07/Kreativlabor-Ankuendigungen-2025.png
END:VEVENT
BEGIN:VEVENT
DTSTART;TZID=Europe/Berlin:20250725T150000
DTEND;TZID=Europe/Berlin:20250725T170000
DTSTAMP:20260423T115929
CREATED:20250411T152650Z
LAST-MODIFIED:20250813T105031Z
UID:1801-1753455600-1753462800@kreativlabor-freiham.de
SUMMARY:Grüne Oase: Die Welt von morgen
DESCRIPTION:Grüne Oase: Die Welt von morgen\nHast du coole Ideen\, wie Freiham in Zukunft noch schöner\, spannender oder nachhaltiger werden könnte?\nDann bist du bei unserem Kurs rund um’s Filmen und Storytelling genau richtig! \nHier lernst du Schritt für Schritt\, einen Film zu produzieren – von der ersten Idee bis zum fertigen Film. Dabei denkst du dir spannende Ideen aus\, schreibst ein eigenes Drehbuch\, zeichnest ein Storyboard\, drehst Szenen und schneidest bzw. vertonst das Videomaterial. \nIm Kurs produzieren wir gemeinsam einen Film über den neuen Stadtteil Freiham – und der ist vor allem eins: laut\, kreativ und voller Zukunft! Sei dabei\, deine Stimme zählen! \nTermine\nDer Film-Kurs geht von Mai bis Juli 2025 über insg. 10 Wochen. Die Termine sind jeweils freitags von 15:00 – 17:00 Uhr (außer in den Schulferien). \nAnmeldung\nDer Kurs ist für Kinder und Jugendliche zwischen 10 und 14 Jahren. Wir freuen uns über alle Interessierten\, egal ob Jungen\, Mädchen oder divers! Für den Kurs sind keine Vorerfahrungen nötig. \nAchtung: Derzeit sind keine Anmeldungen mehr möglich! \nKooperation\n\nDas Projekt Grüne Oase wird gefördert im Rahmen von Labs4Future und findet in Kooperation mit dem Bildungslokal Freiham (Referat für Bildung und Sport der LHM) statt.
URL:https://kreativlabor-freiham.de/termine-sin/grueneoase-diewelt/
LOCATION:Kreativlabor Freiham\, Ute-Strittmatter-Straße 6\, München\, 81248\, Deutschland
ATTACH;FMTTYPE=image/png:https://kreativlabor-freiham.de/wp-content/uploads/2025/04/KL_GrueneOase_Welt.png
ORGANIZER;CN="SIN - Studio im Netz e.V.":MAILTO:medien@kreativlabor-freiham.de
END:VEVENT
END:VCALENDAR