BEGIN:VCALENDAR
VERSION:2.0
PRODID:-//Kreativlabor Freiham - ECPv6.15.20//NONSGML v1.0//EN
CALSCALE:GREGORIAN
METHOD:PUBLISH
X-ORIGINAL-URL:https://kreativlabor-freiham.de
X-WR-CALDESC:Veranstaltungen für Kreativlabor Freiham
REFRESH-INTERVAL;VALUE=DURATION:PT1H
X-Robots-Tag:noindex
X-PUBLISHED-TTL:PT1H
BEGIN:VTIMEZONE
TZID:Europe/Berlin
BEGIN:DAYLIGHT
TZOFFSETFROM:+0100
TZOFFSETTO:+0200
TZNAME:CEST
DTSTART:20230326T010000
END:DAYLIGHT
BEGIN:STANDARD
TZOFFSETFROM:+0200
TZOFFSETTO:+0100
TZNAME:CET
DTSTART:20231029T010000
END:STANDARD
BEGIN:DAYLIGHT
TZOFFSETFROM:+0100
TZOFFSETTO:+0200
TZNAME:CEST
DTSTART:20240331T010000
END:DAYLIGHT
BEGIN:STANDARD
TZOFFSETFROM:+0200
TZOFFSETTO:+0100
TZNAME:CET
DTSTART:20241027T010000
END:STANDARD
BEGIN:DAYLIGHT
TZOFFSETFROM:+0100
TZOFFSETTO:+0200
TZNAME:CEST
DTSTART:20250330T010000
END:DAYLIGHT
BEGIN:STANDARD
TZOFFSETFROM:+0200
TZOFFSETTO:+0100
TZNAME:CET
DTSTART:20251026T010000
END:STANDARD
END:VTIMEZONE
BEGIN:VEVENT
DTSTART;TZID=Europe/Berlin:20241110T140000
DTEND;TZID=Europe/Berlin:20241110T160000
DTSTAMP:20260424T014423
CREATED:20240628T140722Z
LAST-MODIFIED:20241011T090622Z
UID:1527-1731247200-1731254400@kreativlabor-freiham.de
SUMMARY:Pixelzauber: Kreativworkshop zum #Medienpreis24
DESCRIPTION:Pixelzauber: Kreativworkshop zum #Medienpreis24\nDu liebst es\, kreativ zu sein und bist fasziniert von Games und Apps? Dann bist du bei unserem Workshop genau richtig. Gemeinsam experimentieren wir mit verschiedenen kreativen Tools und entwickeln unsere eigenen digitalen Kunstwerke und Games. Außerdem testen wir alle Gewinner vom „Pädagogischen Medienpreis 2024“. \nBeim „Pädagogischen Medienpreis“ werden jährlich innovative Apps\, Games und Online-Angebote für Kinder und Jugendliche ausgezeichnet. \nTermin\n\n10. November 2024\, 14:00 – 16:00 Uhr\n\nAnmeldung\nFür den Workshop ist eine Anmeldung erforderlich.\n \nDer Workshop ist ausgebucht! \nKooperation\nDer Workshop findet im Rahmen des Musenkuss Festivals statt.
URL:https://kreativlabor-freiham.de/termine-sin/pixelzauber-medienpreis24/
LOCATION:Kreativlabor Freiham\, Ute-Strittmatter-Straße 6\, München\, 81248\, Deutschland
ATTACH;FMTTYPE=image/png:https://kreativlabor-freiham.de/wp-content/uploads/2024/06/KL_SIN_Pixelzauber.png
ORGANIZER;CN="SIN - Studio im Netz e.V.":MAILTO:medien@kreativlabor-freiham.de
END:VEVENT
END:VCALENDAR