BEGIN:VCALENDAR
VERSION:2.0
PRODID:-//Kreativlabor Freiham - ECPv6.15.20//NONSGML v1.0//EN
CALSCALE:GREGORIAN
METHOD:PUBLISH
X-WR-CALNAME:Kreativlabor Freiham
X-ORIGINAL-URL:https://kreativlabor-freiham.de
X-WR-CALDESC:Veranstaltungen für Kreativlabor Freiham
REFRESH-INTERVAL;VALUE=DURATION:PT1H
X-Robots-Tag:noindex
X-PUBLISHED-TTL:PT1H
BEGIN:VTIMEZONE
TZID:Europe/Berlin
BEGIN:DAYLIGHT
TZOFFSETFROM:+0100
TZOFFSETTO:+0200
TZNAME:CEST
DTSTART:20250330T010000
END:DAYLIGHT
BEGIN:STANDARD
TZOFFSETFROM:+0200
TZOFFSETTO:+0100
TZNAME:CET
DTSTART:20251026T010000
END:STANDARD
BEGIN:DAYLIGHT
TZOFFSETFROM:+0100
TZOFFSETTO:+0200
TZNAME:CEST
DTSTART:20260329T010000
END:DAYLIGHT
BEGIN:STANDARD
TZOFFSETFROM:+0200
TZOFFSETTO:+0100
TZNAME:CET
DTSTART:20261025T010000
END:STANDARD
BEGIN:DAYLIGHT
TZOFFSETFROM:+0100
TZOFFSETTO:+0200
TZNAME:CEST
DTSTART:20270328T010000
END:DAYLIGHT
BEGIN:STANDARD
TZOFFSETFROM:+0200
TZOFFSETTO:+0100
TZNAME:CET
DTSTART:20271031T010000
END:STANDARD
END:VTIMEZONE
BEGIN:VEVENT
DTSTART;TZID=Europe/Berlin:20260424T150000
DTEND;TZID=Europe/Berlin:20260424T180000
DTSTAMP:20260419T174817
CREATED:20260319T140237Z
LAST-MODIFIED:20260320T080701Z
UID:2135-1777042800-1777053600@kreativlabor-freiham.de
SUMMARY:"MediaArtLab": Rocket Mission
DESCRIPTION:„Hier ist Astronaut Bob Kerman! Mayday – meine Rakete ist beschädigt. Ich kann nicht zurück nach Kerbin. Ich habe noch für vier Monate genug Energie und Lebensmittel … ich brauche eure Hilfe!“ \nWerde Teil eines spannenden Weltraumabenteuers! Gemeinsam mit anderen Kindern planst und steuerst du eine echte Rettungsmission. Dabei bist du gleichzeitig Ingenieur und Astronaut. \nIm Spiel Kerbal Space Program entwickelst du deine eigene Rakete und startest ins All\, um Bob zu retten. Aber das ist noch nicht alles:\n• 🚀 Baue deine eigene Rakete: Konstruiere dein Raumschiff von Grund auf und lerne\, worauf es wirklich ankommt.\n• 🎮 Entwickle deine eigene Steuerung: Baue ein eigenes Steuerungssystem mit echten physikalischen Komponenten und kontrolliere deine Rakete wie ein Profi.\n• 🌍 Übernimm das Steuer: Starte deine Rakete und navigiere sie sicher durch das Weltall.\n• 🔬 Teste wie echte Ingenieure: Führe Experimente durch und prüfe deine Bauteile\, bevor es ernst wird. \nStart: Freitag\, 24.04.26\, 15:00 – 18:00 Uhr \nOrt: Kreativlabor Freiham\, Ute-Strittmatter-Str. 6\, München \nDer Kurs richtet sich an Kinder und Jugendliche zwischen 11 und 15 Jahren. Wir freuen uns über alle Interessierten\, egal ob Jungen\, Mädchen oder divers! Für den Kurs sind keine Vorerfahrungen nötig. \nDie Teilnahme ist kostenlos! Anmeldung unter: https://forms.office.com/e/ByJmCcFtqK \nWeitere Kurstermine: \n\n08.05.26\n22.05.26\n12.06.26\n19.06.26\n26.06.26\n10.07.26 \n\nHintergrund: \n„Rocket Mission“ ist ein Kurs aus der Reihe „MediaArtLab“. Diese Angebote werden gefördert im Rahmen des Bündnisprojekts „Labs4Future“ des JFF und finden in Kooperation mit dem „SIN – Studio im Netz“ und dem „Bildungslokal Freiham“ (Referat für Bildung und Sport der LHM) statt.\n\nGeleitet wird der Kurs von Attila Strba und Florian Lohmann. Mehr zum Raketenkurs gibt es in diesem Video.
URL:https://kreativlabor-freiham.de/termine-sin/mediaartlab-rocket-mission/
LOCATION:Kreativlabor Freiham\, Ute-Strittmatter-Straße 6\, München\, 81248\, Deutschland
ATTACH;FMTTYPE=image/png:https://kreativlabor-freiham.de/wp-content/uploads/2026/03/Grafik-Rocket-Mission.png
ORGANIZER;CN="SIN - Studio im Netz e.V.":MAILTO:medien@kreativlabor-freiham.de
END:VEVENT
END:VCALENDAR