BEGIN:VCALENDAR
VERSION:2.0
PRODID:-//Kreativlabor Freiham - ECPv6.15.20//NONSGML v1.0//EN
CALSCALE:GREGORIAN
METHOD:PUBLISH
X-ORIGINAL-URL:https://kreativlabor-freiham.de
X-WR-CALDESC:Veranstaltungen für Kreativlabor Freiham
REFRESH-INTERVAL;VALUE=DURATION:PT1H
X-Robots-Tag:noindex
X-PUBLISHED-TTL:PT1H
BEGIN:VTIMEZONE
TZID:Europe/Berlin
BEGIN:DAYLIGHT
TZOFFSETFROM:+0100
TZOFFSETTO:+0200
TZNAME:CEST
DTSTART:20250330T010000
END:DAYLIGHT
BEGIN:STANDARD
TZOFFSETFROM:+0200
TZOFFSETTO:+0100
TZNAME:CET
DTSTART:20251026T010000
END:STANDARD
BEGIN:DAYLIGHT
TZOFFSETFROM:+0100
TZOFFSETTO:+0200
TZNAME:CEST
DTSTART:20260329T010000
END:DAYLIGHT
BEGIN:STANDARD
TZOFFSETFROM:+0200
TZOFFSETTO:+0100
TZNAME:CET
DTSTART:20261025T010000
END:STANDARD
BEGIN:DAYLIGHT
TZOFFSETFROM:+0100
TZOFFSETTO:+0200
TZNAME:CEST
DTSTART:20270328T010000
END:DAYLIGHT
BEGIN:STANDARD
TZOFFSETFROM:+0200
TZOFFSETTO:+0100
TZNAME:CET
DTSTART:20271031T010000
END:STANDARD
END:VTIMEZONE
BEGIN:VEVENT
DTSTART;TZID=Europe/Berlin:20260331T130000
DTEND;TZID=Europe/Berlin:20260331T160000
DTSTAMP:20260419T141704
CREATED:20260303T151851Z
LAST-MODIFIED:20260303T164314Z
UID:2111-1774962000-1774972800@kreativlabor-freiham.de
SUMMARY:Einstieg in die Robotik (6 bis 10 Jahre)
DESCRIPTION:Familienpassangebot\n\n\nWenn Ihr euch für Robotik und Coding interessiert\, dann seid Ihr bei uns genau richtig! Gemeinsam tauchen wir in die Welt der Informatik ab und programmieren unser eigenes Mini-Game\, das Ihr mit nach Hause nehmen könnt. Doch das ist noch längst nicht alles: Im Workshop experimentieren wir außerdem mit verschiedenen Robotern und zeigen Euch\, wie sie funktionieren und was Ihr damit alles machen könnt. \n\nAnmeldung über die Seite der Stadt:\nhttps://veranstaltungen.muenchen.de/ferienangebote-familienpass/veranstaltungen/einstieg-in-die-robotik-6-bis-10-jahre/
URL:https://kreativlabor-freiham.de/termine-sin/einstieg-in-die-robotik-6-bis-10-jahre/
LOCATION:Kreativlabor Freiham\, Ute-Strittmatter-Straße 6\, München\, 81248\, Deutschland
ORGANIZER;CN="SIN - Studio im Netz e.V.":MAILTO:medien@kreativlabor-freiham.de
END:VEVENT
END:VCALENDAR