BEGIN:VCALENDAR
VERSION:2.0
PRODID:-//Kreativlabor Freiham - ECPv6.15.20//NONSGML v1.0//EN
CALSCALE:GREGORIAN
METHOD:PUBLISH
X-WR-CALNAME:Kreativlabor Freiham
X-ORIGINAL-URL:https://kreativlabor-freiham.de
X-WR-CALDESC:Veranstaltungen für Kreativlabor Freiham
REFRESH-INTERVAL;VALUE=DURATION:PT1H
X-Robots-Tag:noindex
X-PUBLISHED-TTL:PT1H
BEGIN:VTIMEZONE
TZID:Europe/Berlin
BEGIN:DAYLIGHT
TZOFFSETFROM:+0100
TZOFFSETTO:+0200
TZNAME:CEST
DTSTART:20250330T010000
END:DAYLIGHT
BEGIN:STANDARD
TZOFFSETFROM:+0200
TZOFFSETTO:+0100
TZNAME:CET
DTSTART:20251026T010000
END:STANDARD
BEGIN:DAYLIGHT
TZOFFSETFROM:+0100
TZOFFSETTO:+0200
TZNAME:CEST
DTSTART:20260329T010000
END:DAYLIGHT
BEGIN:STANDARD
TZOFFSETFROM:+0200
TZOFFSETTO:+0100
TZNAME:CET
DTSTART:20261025T010000
END:STANDARD
BEGIN:DAYLIGHT
TZOFFSETFROM:+0100
TZOFFSETTO:+0200
TZNAME:CEST
DTSTART:20270328T010000
END:DAYLIGHT
BEGIN:STANDARD
TZOFFSETFROM:+0200
TZOFFSETTO:+0100
TZNAME:CET
DTSTART:20271031T010000
END:STANDARD
END:VTIMEZONE
BEGIN:VEVENT
DTSTART;TZID=Europe/Berlin:20260123T150000
DTEND;TZID=Europe/Berlin:20260123T180000
DTSTAMP:20260419T162318
CREATED:20260109T105646Z
LAST-MODIFIED:20260122T112548Z
UID:2049-1769180400-1769191200@kreativlabor-freiham.de
SUMMARY:Soundlaboratorium für Kids
DESCRIPTION:Aus der Reihe: Let´s drop the Beat – DJ-Kultur auf den Kopf gestellt! DJ Workshop für Kinder und Jugendliche zwischen 10 und 14 Jahren. \nIn diesem interaktiven Workshop tauchen Kinder und Jugendliche in die Welt des digitalen DJings ein. Sie bekommen Tipps\, wie man legal an gute Musik kommt\, analysiert und Playlisten pflegt. Und sie lernen\, wie sie mit DJ-Apps professionelle Mixe erstellen\, üben und präsentieren können. \nIm Anschluss\, um 18:00 Uhr\, gibt es noch eine Kinderdisco! \nEine Anmeldung ist leider nicht mehr möglich. \nEin Projekt von GRETE Kultur Zentrum Freiham in Kooperation mit SIN Studio im Netz und Kreativlabor Freiham
URL:https://kreativlabor-freiham.de/termine-sin/soundlaboratorium-fuer-kids/
LOCATION:Kreativlabor Freiham\, Ute-Strittmatter-Straße 6\, München\, 81248\, Deutschland
ATTACH;FMTTYPE=image/jpeg:https://kreativlabor-freiham.de/wp-content/uploads/2026/01/DJ-Workshops_sharepic1.jpg
ORGANIZER;CN="SIN - Studio im Netz e.V.":MAILTO:medien@kreativlabor-freiham.de
END:VEVENT
END:VCALENDAR