BEGIN:VCALENDAR
VERSION:2.0
PRODID:-//Kreativlabor Freiham - ECPv6.15.20//NONSGML v1.0//EN
CALSCALE:GREGORIAN
METHOD:PUBLISH
X-ORIGINAL-URL:https://kreativlabor-freiham.de
X-WR-CALDESC:Veranstaltungen für Kreativlabor Freiham
REFRESH-INTERVAL;VALUE=DURATION:PT1H
X-Robots-Tag:noindex
X-PUBLISHED-TTL:PT1H
BEGIN:VTIMEZONE
TZID:Europe/Berlin
BEGIN:DAYLIGHT
TZOFFSETFROM:+0100
TZOFFSETTO:+0200
TZNAME:CEST
DTSTART:20240331T010000
END:DAYLIGHT
BEGIN:STANDARD
TZOFFSETFROM:+0200
TZOFFSETTO:+0100
TZNAME:CET
DTSTART:20241027T010000
END:STANDARD
BEGIN:DAYLIGHT
TZOFFSETFROM:+0100
TZOFFSETTO:+0200
TZNAME:CEST
DTSTART:20250330T010000
END:DAYLIGHT
BEGIN:STANDARD
TZOFFSETFROM:+0200
TZOFFSETTO:+0100
TZNAME:CET
DTSTART:20251026T010000
END:STANDARD
BEGIN:DAYLIGHT
TZOFFSETFROM:+0100
TZOFFSETTO:+0200
TZNAME:CEST
DTSTART:20260329T010000
END:DAYLIGHT
BEGIN:STANDARD
TZOFFSETFROM:+0200
TZOFFSETTO:+0100
TZNAME:CET
DTSTART:20261025T010000
END:STANDARD
END:VTIMEZONE
BEGIN:VEVENT
DTSTART;TZID=Europe/Berlin:20251212T150000
DTEND;TZID=Europe/Berlin:20251212T170000
DTSTAMP:20260421T110214
CREATED:20251203T113501Z
LAST-MODIFIED:20251203T113501Z
UID:1999-1765551600-1765558800@kreativlabor-freiham.de
SUMMARY:Abschlusspräsentation "Grüne Oase"
DESCRIPTION:Am Freitag\, den 12. Dezember 2025 steht die Abschlusspräsentation unseres Projekts „Grüne Oase“ an\, sie findet zwischen 15 und 17 Uhr im Kreativlabor Freiham statt. \nIn vier Workshops haben sich Jugendliche mit Fragen zu einer nachhaltigen Lebensweise beschäftigt. Sie widmeten sich dem „Verkehr der Zukunft“\, der „Welt von morgen“\, entwickelten „Green Games“ und programmierten „talking plants“. \nZur abschließenden Ergebnispräsentation sind alle Interessierten herzlich eingeladen! Dann werden wir auch einen Ausblick auf die neuen Angebote im Jahr 2026 werfen. \nDas Projekt „Grüne Oase“ wird gefördert im Rahmen von „Labs4Future“ des JFF und findet in Kooperation mit dem Bildungslokal Freiham (Referat für Bildung und Sport der LHM) statt.\nRealisiert wurden die Workshops von Attila Strba und Florian Lohmann für das „SIN – Studio im Netz“. \nWir freuen uns auf Ihren und euren Besuch! Eine Anmeldung ist nicht erforderlich.
URL:https://kreativlabor-freiham.de/termine-sin/abschlusspraesentation-gruene-oase/
LOCATION:Kreativlabor Freiham\, Ute-Strittmatter-Straße 6\, München\, 81248\, Deutschland
ATTACH;FMTTYPE=image/png:https://kreativlabor-freiham.de/wp-content/uploads/2025/12/Gruene-Oase-Abschlusspraesentation.png
ORGANIZER;CN="SIN - Studio im Netz e.V.":MAILTO:medien@kreativlabor-freiham.de
END:VEVENT
END:VCALENDAR