BEGIN:VCALENDAR
VERSION:2.0
PRODID:-//Kreativlabor Freiham - ECPv6.15.20//NONSGML v1.0//EN
CALSCALE:GREGORIAN
METHOD:PUBLISH
X-ORIGINAL-URL:https://kreativlabor-freiham.de
X-WR-CALDESC:Veranstaltungen für Kreativlabor Freiham
REFRESH-INTERVAL;VALUE=DURATION:PT1H
X-Robots-Tag:noindex
X-PUBLISHED-TTL:PT1H
BEGIN:VTIMEZONE
TZID:Europe/Berlin
BEGIN:DAYLIGHT
TZOFFSETFROM:+0100
TZOFFSETTO:+0200
TZNAME:CEST
DTSTART:20240331T010000
END:DAYLIGHT
BEGIN:STANDARD
TZOFFSETFROM:+0200
TZOFFSETTO:+0100
TZNAME:CET
DTSTART:20241027T010000
END:STANDARD
BEGIN:DAYLIGHT
TZOFFSETFROM:+0100
TZOFFSETTO:+0200
TZNAME:CEST
DTSTART:20250330T010000
END:DAYLIGHT
BEGIN:STANDARD
TZOFFSETFROM:+0200
TZOFFSETTO:+0100
TZNAME:CET
DTSTART:20251026T010000
END:STANDARD
BEGIN:DAYLIGHT
TZOFFSETFROM:+0100
TZOFFSETTO:+0200
TZNAME:CEST
DTSTART:20260329T010000
END:DAYLIGHT
BEGIN:STANDARD
TZOFFSETFROM:+0200
TZOFFSETTO:+0100
TZNAME:CET
DTSTART:20261025T010000
END:STANDARD
END:VTIMEZONE
BEGIN:VEVENT
DTSTART;TZID=Europe/Berlin:20250804T100000
DTEND;TZID=Europe/Berlin:20250806T160000
DTSTAMP:20260421T155531
CREATED:20250530T103043Z
LAST-MODIFIED:20250828T080832Z
UID:1813-1754301600-1754496000@kreativlabor-freiham.de
SUMMARY:Spray it\, say it\, film it!
DESCRIPTION:Spray it\, say it\, film it!\nIn drei Modulen zeigen wir dir\, wie du dich mithilfe von Rap\, Graffiti und Film ausdrücken kannst. \n1. Tag: Rap – Deine Stimme zählt (z.B. Texte schreiben\, Botschaften mit Beats verbinden\, Track aufnehmen)\n2. Tag: Graffiti – 1 Bild sagt mehr als 1.000 Worte (z.B. Street Art entdecken\, Kunstwerk für Toleranz entwickeln)\n3. Tag: Film – In Szene setzen (z.B. Film-Technik lernen\, eigene Geschichten erzählen) \nTermin\n\n04.-06. August 2025\, jeweils 10:00 – 16:00 Uhr\n\nAnmeldung\nDer kostenlose Workshop ist fürJugendliche zwischen 12 und 16 Jahren gedacht.  \nEine Teilnahme am Workshop ist nur möglich\, wenn alle 3 Workshoptage besucht werden. Die Teilnahme nur an einzelnen Tagen ist nicht möglich. \nEine Anmeldung ist erforderlich. Die Anmeldung ist bereits geschlossen. \nKooperation\nDer Workshop ist eine Kooperation zwischen dem SIN – Studio im Netz und 5elements. Das Angebot wird gefördert vom Stadtjugendamt der Landeshauptstadt München (Jugendkulturwerk).
URL:https://kreativlabor-freiham.de/termine-sin/hiphop-workshop/
LOCATION:Kreativlabor Freiham\, Ute-Strittmatter-Straße 6\, München\, 81248\, Deutschland
ATTACH;FMTTYPE=image/png:https://kreativlabor-freiham.de/wp-content/uploads/2025/05/Grafik_SIN_5elements.png
ORGANIZER;CN="SIN - Studio im Netz e.V.":MAILTO:medien@kreativlabor-freiham.de
END:VEVENT
END:VCALENDAR