BEGIN:VCALENDAR
VERSION:2.0
PRODID:-//Kreativlabor Freiham - ECPv6.15.20//NONSGML v1.0//EN
CALSCALE:GREGORIAN
METHOD:PUBLISH
X-ORIGINAL-URL:https://kreativlabor-freiham.de
X-WR-CALDESC:Veranstaltungen für Kreativlabor Freiham
REFRESH-INTERVAL;VALUE=DURATION:PT1H
X-Robots-Tag:noindex
X-PUBLISHED-TTL:PT1H
BEGIN:VTIMEZONE
TZID:Europe/Berlin
BEGIN:DAYLIGHT
TZOFFSETFROM:+0100
TZOFFSETTO:+0200
TZNAME:CEST
DTSTART:20240331T010000
END:DAYLIGHT
BEGIN:STANDARD
TZOFFSETFROM:+0200
TZOFFSETTO:+0100
TZNAME:CET
DTSTART:20241027T010000
END:STANDARD
BEGIN:DAYLIGHT
TZOFFSETFROM:+0100
TZOFFSETTO:+0200
TZNAME:CEST
DTSTART:20250330T010000
END:DAYLIGHT
BEGIN:STANDARD
TZOFFSETFROM:+0200
TZOFFSETTO:+0100
TZNAME:CET
DTSTART:20251026T010000
END:STANDARD
BEGIN:DAYLIGHT
TZOFFSETFROM:+0100
TZOFFSETTO:+0200
TZNAME:CEST
DTSTART:20260329T010000
END:DAYLIGHT
BEGIN:STANDARD
TZOFFSETFROM:+0200
TZOFFSETTO:+0100
TZNAME:CET
DTSTART:20261025T010000
END:STANDARD
END:VTIMEZONE
BEGIN:VEVENT
DTSTART;TZID=Europe/Berlin:20250321T150000
DTEND;TZID=Europe/Berlin:20250321T170000
DTSTAMP:20260423T194541
CREATED:20250212T133318Z
LAST-MODIFIED:20250320T134247Z
UID:1711-1742569200-1742576400@kreativlabor-freiham.de
SUMMARY:Future Freiham: Upcycling Media
DESCRIPTION:Future Freiham: Upcycling Media\nAlte Computer\, vergessene Platinen und Elektroschrott? Nicht bei uns! In diesem Kurs verwandeln wir ausgediente PCs in coole Retro-Spielkonsolen. Dabei zeigen wir euch nicht nur\, wie ihr alte Hardware wieder zum Leben erwecken\, sondern auch\, wie ihr mit kreativen Upcycling-Ideen nachhaltige Technikprojekte umsetzen könnt. \nWas erwartet dich?\n \n\nWir bauen aus alten Rechnern eine Retro-Spielkonsole\nWir nutzen Altmetall und Recycling-Materialien\, um eigene Controller zu gestalten\nWir entdecken\, wie Technik repariert und umfunktioniert werden kann\, statt sie wegzuwerfen\nWir testen unsere eigenen Bau mit Retro-Games aus\n\nWarum Upcycling? \nTechnik muss nicht immer neu sein\, denn aus alten Geräten kann man fantastische Dinge erschaffen! Dieser Kurs zeigt euch\, dass Elektroschrott voller Möglichkeiten steckt und dass Technikrecycling nicht nur nachhaltig\, sondern auch unglaublich spannend ist. \nMach mit und erwecke alte Technik zu neuem Leben! \nTermin\n21. März\, 15:00 – 17:00 Uhr \nAnmeldung\nDer Upcycling Media-Kurs ist für Kinder und Jugendliche zwischen 10 und 14 Jahren. Wir freuen uns über alle Interessierten\, egal ob Jungen\, Mädchen oder divers! Für den Kurs sind keine Vorerfahrungen nötig. \nEine Teilnahme ist nur mit Anmeldung möglich. Die Anmeldung ist geschlossen. \nKooperation\n\nDas Projekt Future Freiham wird gefördert im Rahmen von Labs4Future und findet in Kooperation mit dem Bildungslokal Freiham (Referat für Bildung und Sport der LHM) statt.
URL:https://kreativlabor-freiham.de/termine-sin/futurefreiham-upcyclingmedia/
LOCATION:Kreativlabor Freiham\, Ute-Strittmatter-Straße 6\, München\, 81248\, Deutschland
ATTACH;FMTTYPE=image/png:https://kreativlabor-freiham.de/wp-content/uploads/2025/02/KL_Upcycling.png
ORGANIZER;CN="SIN - Studio im Netz e.V.":MAILTO:medien@kreativlabor-freiham.de
END:VEVENT
END:VCALENDAR