BEGIN:VCALENDAR
VERSION:2.0
PRODID:-//Kreativlabor Freiham - ECPv6.15.20//NONSGML v1.0//EN
CALSCALE:GREGORIAN
METHOD:PUBLISH
X-ORIGINAL-URL:https://kreativlabor-freiham.de
X-WR-CALDESC:Veranstaltungen für Kreativlabor Freiham
REFRESH-INTERVAL;VALUE=DURATION:PT1H
X-Robots-Tag:noindex
X-PUBLISHED-TTL:PT1H
BEGIN:VTIMEZONE
TZID:Europe/Berlin
BEGIN:DAYLIGHT
TZOFFSETFROM:+0100
TZOFFSETTO:+0200
TZNAME:CEST
DTSTART:20240331T010000
END:DAYLIGHT
BEGIN:STANDARD
TZOFFSETFROM:+0200
TZOFFSETTO:+0100
TZNAME:CET
DTSTART:20241027T010000
END:STANDARD
BEGIN:DAYLIGHT
TZOFFSETFROM:+0100
TZOFFSETTO:+0200
TZNAME:CEST
DTSTART:20250330T010000
END:DAYLIGHT
BEGIN:STANDARD
TZOFFSETFROM:+0200
TZOFFSETTO:+0100
TZNAME:CET
DTSTART:20251026T010000
END:STANDARD
BEGIN:DAYLIGHT
TZOFFSETFROM:+0100
TZOFFSETTO:+0200
TZNAME:CEST
DTSTART:20260329T010000
END:DAYLIGHT
BEGIN:STANDARD
TZOFFSETFROM:+0200
TZOFFSETTO:+0100
TZNAME:CET
DTSTART:20261025T010000
END:STANDARD
END:VTIMEZONE
BEGIN:VEVENT
DTSTART;VALUE=DATE:20250305
DTEND;VALUE=DATE:20250308
DTSTAMP:20260423T194617
CREATED:20250212T132610Z
LAST-MODIFIED:20250301T092211Z
UID:1706-1741132800-1741391999@kreativlabor-freiham.de
SUMMARY:Future Freiham: Making Artists
DESCRIPTION:Future Freiham: Making Artists\nDu liebst es zu basteln\, zu experimentieren und deine eigenen Kunstwerke zu erschaffen? Dann ist dieser Workshop genau richtig! Hier kombinieren wir Handwerk und Hightech\, von 3D-gedruckten Tortenverzierungen bis hin zu lasergravierten Meisterwerken. \nWas erwartet dich?\n \n\n3D-Druck mit Icing: Gestalte deine eigene 3D Kunstwerke\nSculpting mit Knete & 3D-Scan: Erschaffe Figuren\, die wir in die digitale Welt holen!\nTinkercad & 3D-Druck: Bearbeite dein Modell und erwecke es zum Leben!\nLasergravur: Brenne coole Muster und Designs in Holz!\n\nTermin\n05. bis 07. März\, jeweils von 09:00 – 16:00 Uhr \nAnmeldung\nDer Making Artists-Kurs ist für Kinder und Jugendliche zwischen 10 und 14 Jahren. Wir freuen uns über alle Interessierten\, egal ob Jungen\, Mädchen oder divers! Für den Kurs sind keine Vorerfahrungen nötig. \nEine Teilnahme ist nur mit Anmeldung möglich. Die Anmeldung ist geschlossen. \nKooperation\n\nDas Projekt Future Freiham wird gefördert im Rahmen von Labs4Future und findet in Kooperation mit dem Bildungslokal Freiham (Referat für Bildung und Sport der LHM) statt.
URL:https://kreativlabor-freiham.de/termine-sin/futurefreiham-makingartists/
LOCATION:Kreativlabor Freiham\, Ute-Strittmatter-Straße 6\, München\, 81248\, Deutschland
ATTACH;FMTTYPE=image/png:https://kreativlabor-freiham.de/wp-content/uploads/2025/02/Making-Artists.png
ORGANIZER;CN="SIN - Studio im Netz e.V.":MAILTO:medien@kreativlabor-freiham.de
END:VEVENT
END:VCALENDAR