BEGIN:VCALENDAR
VERSION:2.0
PRODID:-//Kreativlabor Freiham - ECPv6.15.20//NONSGML v1.0//EN
CALSCALE:GREGORIAN
METHOD:PUBLISH
X-ORIGINAL-URL:https://kreativlabor-freiham.de
X-WR-CALDESC:Veranstaltungen für Kreativlabor Freiham
REFRESH-INTERVAL;VALUE=DURATION:PT1H
X-Robots-Tag:noindex
X-PUBLISHED-TTL:PT1H
BEGIN:VTIMEZONE
TZID:Europe/Berlin
BEGIN:DAYLIGHT
TZOFFSETFROM:+0100
TZOFFSETTO:+0200
TZNAME:CEST
DTSTART:20240331T010000
END:DAYLIGHT
BEGIN:STANDARD
TZOFFSETFROM:+0200
TZOFFSETTO:+0100
TZNAME:CET
DTSTART:20241027T010000
END:STANDARD
BEGIN:DAYLIGHT
TZOFFSETFROM:+0100
TZOFFSETTO:+0200
TZNAME:CEST
DTSTART:20250330T010000
END:DAYLIGHT
BEGIN:STANDARD
TZOFFSETFROM:+0200
TZOFFSETTO:+0100
TZNAME:CET
DTSTART:20251026T010000
END:STANDARD
BEGIN:DAYLIGHT
TZOFFSETFROM:+0100
TZOFFSETTO:+0200
TZNAME:CEST
DTSTART:20260329T010000
END:DAYLIGHT
BEGIN:STANDARD
TZOFFSETFROM:+0200
TZOFFSETTO:+0100
TZNAME:CET
DTSTART:20261025T010000
END:STANDARD
END:VTIMEZONE
BEGIN:VEVENT
DTSTART;TZID=Europe/Berlin:20250228T150000
DTEND;TZID=Europe/Berlin:20250228T170000
DTSTAMP:20260423T193907
CREATED:20241107T144402Z
LAST-MODIFIED:20250225T142819Z
UID:1630-1740754800-1740762000@kreativlabor-freiham.de
SUMMARY:Future Freiham: Robotik Kurs
DESCRIPTION:Future Freiham: Robotik Kurs\nDu hast Spaß an Robotik und am Programmieren\, möchtest eigene kreative Welten erschaffen und willst zeigen\, was in dir steckt? Dann bist du bei diesem Kurs genau richtig!\n \n Im Kurs baust und steuerst du deinen eigenen Roboter und meisterst spannende Herausforderungen. Alles\, was du dafür brauchst\, sind ein paar Ideen und ganz viel Neugier! \nWas erwartet dich?\n \n\nRoboterbau leicht gemacht: Gestalte deinen eigenen Roboter!\nBlockprogrammierung: Steuere deinen Roboter Schritt für Schritt mit Blockprogrammierung. Und falls du schon Erfahrung damit hast\, kannst du gerne auch Python verwenden.\nTanz-Choreografie für Roboter: Lass deinen Roboter zur Musik tanzen und zeige\, wie kreativ Technik sein kann!\nSumo-Roboter-Kampf: Nimm an einem Wettbewerb teil\, bei dem du deinen Roboter gegen andere antreten lassen kannst – Spannung und Spaß garantiert! \n\nTermin\nDer Robotik-Kurs geht von Dezember 2024 bis Februar 2025 über insg. 10 Wochen. Die Termine sind jeweils freitags von 15:00 – 17:00 Uhr (außer in den Schulferien).\n \nAnmeldung\nDer Robotik-Kurs ist für Kinder und Jugendliche zwischen 10 und 14 Jahren. Wir freuen uns besonders über Mädchen\, die Lust haben\, ihre Erfahrungen zu zeigen oder etwas Neues ausprobieren wollen! Für den Kurs sind keine Programmiererfahrung nötig. \nHinweis: Die Anmeldung ist bereits geschlossen\, alle freien Plätze sind vergeben. \nKooperation\n\nDas Projekt Future Freiham wird gefördert im Rahmen von Labs4Future und findet in Kooperation mit dem Bildungslokal Freiham (Referat für Bildung und Sport der LHM) statt.
URL:https://kreativlabor-freiham.de/termine-sin/futurefreiham-robotikkurs/
LOCATION:Kreativlabor Freiham\, Ute-Strittmatter-Straße 6\, München\, 81248\, Deutschland
ATTACH;FMTTYPE=image/jpeg:https://kreativlabor-freiham.de/wp-content/uploads/2024/11/KL_Grafik_Robotik-Kurs.jpg
ORGANIZER;CN="SIN - Studio im Netz e.V.":MAILTO:medien@kreativlabor-freiham.de
END:VEVENT
END:VCALENDAR