BEGIN:VCALENDAR
VERSION:2.0
PRODID:-//Kreativlabor Freiham - ECPv6.15.20//NONSGML v1.0//EN
CALSCALE:GREGORIAN
METHOD:PUBLISH
X-WR-CALNAME:Kreativlabor Freiham
X-ORIGINAL-URL:https://kreativlabor-freiham.de
X-WR-CALDESC:Veranstaltungen für Kreativlabor Freiham
REFRESH-INTERVAL;VALUE=DURATION:PT1H
X-Robots-Tag:noindex
X-PUBLISHED-TTL:PT1H
BEGIN:VTIMEZONE
TZID:Europe/Berlin
BEGIN:DAYLIGHT
TZOFFSETFROM:+0100
TZOFFSETTO:+0200
TZNAME:CEST
DTSTART:20230326T010000
END:DAYLIGHT
BEGIN:STANDARD
TZOFFSETFROM:+0200
TZOFFSETTO:+0100
TZNAME:CET
DTSTART:20231029T010000
END:STANDARD
BEGIN:DAYLIGHT
TZOFFSETFROM:+0100
TZOFFSETTO:+0200
TZNAME:CEST
DTSTART:20240331T010000
END:DAYLIGHT
BEGIN:STANDARD
TZOFFSETFROM:+0200
TZOFFSETTO:+0100
TZNAME:CET
DTSTART:20241027T010000
END:STANDARD
BEGIN:DAYLIGHT
TZOFFSETFROM:+0100
TZOFFSETTO:+0200
TZNAME:CEST
DTSTART:20250330T010000
END:DAYLIGHT
BEGIN:STANDARD
TZOFFSETFROM:+0200
TZOFFSETTO:+0100
TZNAME:CET
DTSTART:20251026T010000
END:STANDARD
END:VTIMEZONE
BEGIN:VEVENT
DTSTART;TZID=Europe/Berlin:20241206T150000
DTEND;TZID=Europe/Berlin:20241206T170000
DTSTAMP:20260424T014125
CREATED:20240909T144006Z
LAST-MODIFIED:20241204T100505Z
UID:1599-1733497200-1733504400@kreativlabor-freiham.de
SUMMARY:Future Freiham: Coding-Kurs mit VR
DESCRIPTION:Future Freiham: Coding-Kurs mit VR\n\nWie könnte der Stadtteil Freiham in 10 Jahren aussehen? Diese Frage stellen wir uns in diesem VR-Coding-Kurs. Gemeinsam bauen wir den Stadtteil online in „virtual reality“ nach\, sammeln Visionen und Wünsche und generieren unsere eigenen Welten. Am Ende werden wir mit der VR-Brille einen Streifzug durch die verschiedenen Zukunfts-Entwürfe des Stadtteils unternehmen.  \nTermin\nDer Coding-Kurs dauert 10 Wochen\, er geht von 20. September bis 06. Dezember 2024. \n\nTreffen: immer freitags\, 15:00 – 17:00 Uhr\n\nDie Abschlusspräsentation des Kurses findet am Fr\, 06.12. ab 16 Uhr im Kreativlabor statt und ist für alle Interessierten geöffnet. \nKooperation\n\nDas Projekt Future Freiham wird gefördert im Rahmen von Labs4Future und findet in Kooperation mit dem Bildungslokal Freiham (Referat für Bildung und Sport der LHM) statt.
URL:https://kreativlabor-freiham.de/termine-sin/futurefreiham-codingkurs/
LOCATION:Kreativlabor Freiham\, Ute-Strittmatter-Straße 6\, München\, 81248\, Deutschland
ATTACH;FMTTYPE=image/png:https://kreativlabor-freiham.de/wp-content/uploads/2024/09/Grafik_KL_CodingKurs_final.png
ORGANIZER;CN="SIN - Studio im Netz e.V.":MAILTO:medien@kreativlabor-freiham.de
END:VEVENT
END:VCALENDAR