BEGIN:VCALENDAR
VERSION:2.0
PRODID:-//Kreativlabor Freiham - ECPv6.15.20//NONSGML v1.0//EN
CALSCALE:GREGORIAN
METHOD:PUBLISH
X-WR-CALNAME:Kreativlabor Freiham
X-ORIGINAL-URL:https://kreativlabor-freiham.de
X-WR-CALDESC:Veranstaltungen für Kreativlabor Freiham
REFRESH-INTERVAL;VALUE=DURATION:PT1H
X-Robots-Tag:noindex
X-PUBLISHED-TTL:PT1H
BEGIN:VTIMEZONE
TZID:Europe/Berlin
BEGIN:DAYLIGHT
TZOFFSETFROM:+0100
TZOFFSETTO:+0200
TZNAME:CEST
DTSTART:20230326T010000
END:DAYLIGHT
BEGIN:STANDARD
TZOFFSETFROM:+0200
TZOFFSETTO:+0100
TZNAME:CET
DTSTART:20231029T010000
END:STANDARD
BEGIN:DAYLIGHT
TZOFFSETFROM:+0100
TZOFFSETTO:+0200
TZNAME:CEST
DTSTART:20240331T010000
END:DAYLIGHT
BEGIN:STANDARD
TZOFFSETFROM:+0200
TZOFFSETTO:+0100
TZNAME:CET
DTSTART:20241027T010000
END:STANDARD
BEGIN:DAYLIGHT
TZOFFSETFROM:+0100
TZOFFSETTO:+0200
TZNAME:CEST
DTSTART:20250330T010000
END:DAYLIGHT
BEGIN:STANDARD
TZOFFSETFROM:+0200
TZOFFSETTO:+0100
TZNAME:CET
DTSTART:20251026T010000
END:STANDARD
END:VTIMEZONE
BEGIN:VEVENT
DTSTART;TZID=Europe/Berlin:20240913T140000
DTEND;TZID=Europe/Berlin:20240913T180000
DTSTAMP:20260424T053208
CREATED:20240723T095048Z
LAST-MODIFIED:20240909T145400Z
UID:1576-1726236000-1726250400@kreativlabor-freiham.de
SUMMARY:Tag der offenen Tür
DESCRIPTION:Tag der offenen Tür: Kreativlabor Freiham\nVor einem Jahr haben wir das Kreativlabor Freiham eröffnet. Seit dem ist viel passiert und wir möchten uns bei euch bedanken: Wir laden euch herzlich zum „Tag der offenen Tür“ im Kreativlabor Freiham ein! Kommt vorbei und entdeckt kreative Medienangebote und spannende MINT-Experimente. Wir freuen uns auf euren Besuch!   \nTermin\n\nFreitag\, der 13. September 2023\, 14:00 – 18:00 Uhr\n\n\nAnmeldung\nDie Teilnahme am Mitmacht-Angebot ist kostenlos und jederzeit möglich. Es gibt keine Anmeldung.
URL:https://kreativlabor-freiham.de/termine-sin/tagderoffenentuer/
LOCATION:Kreativlabor Freiham\, Ute-Strittmatter-Straße 6\, München\, 81248\, Deutschland
ATTACH;FMTTYPE=image/jpeg:https://kreativlabor-freiham.de/wp-content/uploads/2024/07/Kreativlabor_Tag-der-offenen-Tuer.jpg
ORGANIZER;CN="SIN - Studio im Netz e.V.":MAILTO:medien@kreativlabor-freiham.de
END:VEVENT
END:VCALENDAR