BEGIN:VCALENDAR
VERSION:2.0
PRODID:-//Kreativlabor Freiham - ECPv6.15.20//NONSGML v1.0//EN
CALSCALE:GREGORIAN
METHOD:PUBLISH
X-WR-CALNAME:Kreativlabor Freiham
X-ORIGINAL-URL:https://kreativlabor-freiham.de
X-WR-CALDESC:Veranstaltungen für Kreativlabor Freiham
REFRESH-INTERVAL;VALUE=DURATION:PT1H
X-Robots-Tag:noindex
X-PUBLISHED-TTL:PT1H
BEGIN:VTIMEZONE
TZID:Europe/Berlin
BEGIN:DAYLIGHT
TZOFFSETFROM:+0100
TZOFFSETTO:+0200
TZNAME:CEST
DTSTART:20230326T010000
END:DAYLIGHT
BEGIN:STANDARD
TZOFFSETFROM:+0200
TZOFFSETTO:+0100
TZNAME:CET
DTSTART:20231029T010000
END:STANDARD
BEGIN:DAYLIGHT
TZOFFSETFROM:+0100
TZOFFSETTO:+0200
TZNAME:CEST
DTSTART:20240331T010000
END:DAYLIGHT
BEGIN:STANDARD
TZOFFSETFROM:+0200
TZOFFSETTO:+0100
TZNAME:CET
DTSTART:20241027T010000
END:STANDARD
BEGIN:DAYLIGHT
TZOFFSETFROM:+0100
TZOFFSETTO:+0200
TZNAME:CEST
DTSTART:20250330T010000
END:DAYLIGHT
BEGIN:STANDARD
TZOFFSETFROM:+0200
TZOFFSETTO:+0100
TZNAME:CET
DTSTART:20251026T010000
END:STANDARD
END:VTIMEZONE
BEGIN:VEVENT
DTSTART;TZID=Europe/Berlin:20240902T100000
DTEND;TZID=Europe/Berlin:20240902T150000
DTSTAMP:20260424T053151
CREATED:20240620T154114Z
LAST-MODIFIED:20240624T111922Z
UID:1514-1725271200-1725289200@kreativlabor-freiham.de
SUMMARY:Kreativ werden mit KI: Ferienkurs für Jugendliche
DESCRIPTION:Kreativ werden mit KI: Ferienkurs für Jugendliche\n\nEgal ob in Sprachassistenten\, Bildgeneratoren und Robotern – Künstliche Intelligenz steckt inzwischen überall. Doch wie können wir KI sinnvoll nutzen? In unserem einwöchigen Ferienkurs wollen wir gemeinsam diese und weitere digitale Technologien erforschen\, verschiedene KI-Anwendungen testen und diese mit euren kreativen Ideen verbinden. \n  \nDas Besondere am Workshop: Jeden Tag verknüpfen wir ein anderes spannendes Thema mit KI. Dabei widmen wir uns voraussichtlich unter anderem den Themen 2D-Design\, 3D-Grafik\, Robotik und Gaming. So bekommt ihr nicht nur einen umfassenden Einblick in die Einsatzmöglichkeiten von KI\, sondern lernt auch Grundlagen in verschiedenen Software-Anwendungen. \nTermine\n\n02. bis 06. September 2024\, immer von 10:00 – 15:00 Uhr\n\nAnmeldung & Vorerfahrungen\nDer Ferienkurs ist kostenlos und für Jugendliche zwischen 12 und 18 Jahren gedacht. \n Für den Ferienkurs ist eine Anmeldung bei der Münchner Volkshochschule nötig (Kursnummer: S196521). Bitte melden Sie sich nur an\, wenn Sie an allen Terminen teilnehmen können; es sind keine Einzeltermine möglich! Bei Fragen können Sie sich gerne melden unter: medien@kreativlabor-freiham.de \nTeilnehmende brauchen keine Vorerfahrungen zum Thema KI oder in anderen Bereichen – der Workshop ist anfängergeeignet. \nKooperation\nDer Ferienkurs ist ein Kooperationsprojekt zwischen der MVHS – Münchner Volkshochschule und dem SIN – Studio im Netz. Der Workshop wird gefördert durch die Münchner Volkshochschule und das Kulturreferat der Landeshauptstadt München. \nKursleiter*innen: Raphael Wiegand (MVHS) und Sophia Kiehlmann (SIN e.V.) \nDozent*innen: u.a. Attila Strba (Raketenmann)\, Bastian Krupp (SIN e.V.)
URL:https://kreativlabor-freiham.de/termine-sin/ki-workshop/
LOCATION:Kreativlabor Freiham\, Ute-Strittmatter-Straße 6\, München\, 81248\, Deutschland
ATTACH;FMTTYPE=image/png:https://kreativlabor-freiham.de/wp-content/uploads/2024/06/SIN-MVHS_KI-Workshop.png
ORGANIZER;CN="SIN - Studio im Netz e.V.":MAILTO:medien@kreativlabor-freiham.de
END:VEVENT
END:VCALENDAR