BEGIN:VCALENDAR
VERSION:2.0
PRODID:-//Kreativlabor Freiham - ECPv6.15.20//NONSGML v1.0//EN
CALSCALE:GREGORIAN
METHOD:PUBLISH
X-ORIGINAL-URL:https://kreativlabor-freiham.de
X-WR-CALDESC:Veranstaltungen für Kreativlabor Freiham
REFRESH-INTERVAL;VALUE=DURATION:PT1H
X-Robots-Tag:noindex
X-PUBLISHED-TTL:PT1H
BEGIN:VTIMEZONE
TZID:Europe/Berlin
BEGIN:DAYLIGHT
TZOFFSETFROM:+0100
TZOFFSETTO:+0200
TZNAME:CEST
DTSTART:20230326T010000
END:DAYLIGHT
BEGIN:STANDARD
TZOFFSETFROM:+0200
TZOFFSETTO:+0100
TZNAME:CET
DTSTART:20231029T010000
END:STANDARD
BEGIN:DAYLIGHT
TZOFFSETFROM:+0100
TZOFFSETTO:+0200
TZNAME:CEST
DTSTART:20240331T010000
END:DAYLIGHT
BEGIN:STANDARD
TZOFFSETFROM:+0200
TZOFFSETTO:+0100
TZNAME:CET
DTSTART:20241027T010000
END:STANDARD
BEGIN:DAYLIGHT
TZOFFSETFROM:+0100
TZOFFSETTO:+0200
TZNAME:CEST
DTSTART:20250330T010000
END:DAYLIGHT
BEGIN:STANDARD
TZOFFSETFROM:+0200
TZOFFSETTO:+0100
TZNAME:CET
DTSTART:20251026T010000
END:STANDARD
END:VTIMEZONE
BEGIN:VEVENT
DTSTART;VALUE=DATE:20240826
DTEND;VALUE=DATE:20240831
DTSTAMP:20260424T053633
CREATED:20240218T012913Z
LAST-MODIFIED:20240705T155611Z
UID:1442-1724630400-1725062399@kreativlabor-freiham.de
SUMMARY:Sommerferienprogramm
DESCRIPTION:Jeden Tag dürfen die Kinder (6-12 J.a.) ein neues Abenteuer erleben\, z.B. Montag Forschen\, Dienstag Programmieren\, Mittwoch erste Hilfe lernen\, Donnerstag Trickfilme erstellen… \nWir sind noch am Planen. Das genaue Programm geben wir im Mai bekannt. \nAnmeldung erforderlich – Anmeldemöglichkeiten ab Juni online!
URL:https://kreativlabor-freiham.de/termine-sin/sommerferienprogramm/
ATTACH;FMTTYPE=image/jpeg:https://kreativlabor-freiham.de/wp-content/uploads/2024/02/Maustag2023_Mikroben_Workshop-6-scaled-e1720194966252.jpg
END:VEVENT
BEGIN:VEVENT
DTSTART;TZID=Europe/Berlin:20240826T093000
DTEND;TZID=Europe/Berlin:20240826T123000
DTSTAMP:20260424T053633
CREATED:20240630T211614Z
LAST-MODIFIED:20240705T155645Z
UID:1544-1724664600-1724675400@kreativlabor-freiham.de
SUMMARY:Erste Hilfe kinderleicht (7-11 Jahre)
DESCRIPTION:Richtig helfen zu können ist ein gutes Gefühl und es ist kinderleicht! Erlerne auch du die Grundlagen der Wundversorgung\, das Erkennen akuter Erkrankungen sowie die Reanimation. Freue dich auf viele praktische Übungen! \nTickets: https://www.tickettailor.com/events/littlelab/1293704
URL:https://kreativlabor-freiham.de/termine-sin/erste-hilfe-kinderleicht/
LOCATION:Kreativlabor Freiham\, Ute-Strittmatter-Straße 6\, München\, 81248\, Deutschland
ATTACH;FMTTYPE=image/jpeg:https://kreativlabor-freiham.de/wp-content/uploads/2024/06/erste_hilfe_3-e1720194998900.jpg
ORGANIZER;CN="Little Lab e.V.":MAILTO:mint@kreativlabor-freiham.de
END:VEVENT
END:VCALENDAR