BEGIN:VCALENDAR
VERSION:2.0
PRODID:-//Kreativlabor Freiham - ECPv6.15.20//NONSGML v1.0//EN
CALSCALE:GREGORIAN
METHOD:PUBLISH
X-WR-CALNAME:Kreativlabor Freiham
X-ORIGINAL-URL:https://kreativlabor-freiham.de
X-WR-CALDESC:Veranstaltungen für Kreativlabor Freiham
REFRESH-INTERVAL;VALUE=DURATION:PT1H
X-Robots-Tag:noindex
X-PUBLISHED-TTL:PT1H
BEGIN:VTIMEZONE
TZID:Europe/Berlin
BEGIN:DAYLIGHT
TZOFFSETFROM:+0100
TZOFFSETTO:+0200
TZNAME:CEST
DTSTART:20230326T010000
END:DAYLIGHT
BEGIN:STANDARD
TZOFFSETFROM:+0200
TZOFFSETTO:+0100
TZNAME:CET
DTSTART:20231029T010000
END:STANDARD
BEGIN:DAYLIGHT
TZOFFSETFROM:+0100
TZOFFSETTO:+0200
TZNAME:CEST
DTSTART:20240331T010000
END:DAYLIGHT
BEGIN:STANDARD
TZOFFSETFROM:+0200
TZOFFSETTO:+0100
TZNAME:CET
DTSTART:20241027T010000
END:STANDARD
BEGIN:DAYLIGHT
TZOFFSETFROM:+0100
TZOFFSETTO:+0200
TZNAME:CEST
DTSTART:20250330T010000
END:DAYLIGHT
BEGIN:STANDARD
TZOFFSETFROM:+0200
TZOFFSETTO:+0100
TZNAME:CET
DTSTART:20251026T010000
END:STANDARD
END:VTIMEZONE
BEGIN:VEVENT
DTSTART;VALUE=DATE:20240819
DTEND;VALUE=DATE:20240824
DTSTAMP:20260424T065643
CREATED:20240218T013148Z
LAST-MODIFIED:20240705T155526Z
UID:1444-1724025600-1724457599@kreativlabor-freiham.de
SUMMARY:Sommerferienprogramm
DESCRIPTION:Jeden Tag dürfen die Kinder (6-12 J.a.) ein neues Abenteuer erleben\, z.B. Montag Forschen\, Dienstag Programmieren\, Mittwoch erste Hilfe lernen\, Donnerstag Trickfilme erstellen… \nWir sind noch am Planen. Das genaue Programm geben wir im Mai bekannt. \nAnmeldung erforderlich – Anmeldemöglichkeiten ab Juni online!
URL:https://kreativlabor-freiham.de/termine-sin/sommerferienprogramm-2/
ATTACH;FMTTYPE=image/jpeg:https://kreativlabor-freiham.de/wp-content/uploads/2024/02/20230823_LittleWEST-scaled-e1720194920850.jpg
END:VEVENT
END:VCALENDAR