BEGIN:VCALENDAR
VERSION:2.0
PRODID:-//Kreativlabor Freiham - ECPv6.15.20//NONSGML v1.0//EN
CALSCALE:GREGORIAN
METHOD:PUBLISH
X-WR-CALNAME:Kreativlabor Freiham
X-ORIGINAL-URL:https://kreativlabor-freiham.de
X-WR-CALDESC:Veranstaltungen für Kreativlabor Freiham
REFRESH-INTERVAL;VALUE=DURATION:PT1H
X-Robots-Tag:noindex
X-PUBLISHED-TTL:PT1H
BEGIN:VTIMEZONE
TZID:Europe/Berlin
BEGIN:DAYLIGHT
TZOFFSETFROM:+0100
TZOFFSETTO:+0200
TZNAME:CEST
DTSTART:20230326T010000
END:DAYLIGHT
BEGIN:STANDARD
TZOFFSETFROM:+0200
TZOFFSETTO:+0100
TZNAME:CET
DTSTART:20231029T010000
END:STANDARD
BEGIN:DAYLIGHT
TZOFFSETFROM:+0100
TZOFFSETTO:+0200
TZNAME:CEST
DTSTART:20240331T010000
END:DAYLIGHT
BEGIN:STANDARD
TZOFFSETFROM:+0200
TZOFFSETTO:+0100
TZNAME:CET
DTSTART:20241027T010000
END:STANDARD
BEGIN:DAYLIGHT
TZOFFSETFROM:+0100
TZOFFSETTO:+0200
TZNAME:CEST
DTSTART:20250330T010000
END:DAYLIGHT
BEGIN:STANDARD
TZOFFSETFROM:+0200
TZOFFSETTO:+0100
TZNAME:CET
DTSTART:20251026T010000
END:STANDARD
END:VTIMEZONE
BEGIN:VEVENT
DTSTART;TZID=Europe/Berlin:20240816T100000
DTEND;TZID=Europe/Berlin:20240816T130000
DTSTAMP:20260424T065712
CREATED:20240630T211523Z
LAST-MODIFIED:20240705T155434Z
UID:1542-1723802400-1723813200@kreativlabor-freiham.de
SUMMARY:Zero Waste (6-11 Jahre)
DESCRIPTION:Entdecke in unserem Zero Waste Workshop\, wie spannend und kreativ Umweltschutz sein kann! Gemeinsam gehen wir dem Abfall auf die Spur\, suchen nach Verschwendungsquellen und lernen\, wie man Müll vermeidet. Statt wegzuwerfen\, verwandeln wir aussortierte Materialien durch kreatives Basteln in neue\, nützliche Dinge. Ideal für kleine Umwelthelden\, die Spaß am Tüfteln haben und die Welt ein Stück besser machen wollen. Mach mit und zeig\, wie kreativ und nachhaltig Recycling sein kann! \nTickets: https://www.tickettailor.com/events/littlelab/1293716
URL:https://kreativlabor-freiham.de/termine-sin/zero-waste/
LOCATION:Kreativlabor Freiham\, Ute-Strittmatter-Straße 6\, München\, 81248\, Deutschland
ATTACH;FMTTYPE=image/jpeg:https://kreativlabor-freiham.de/wp-content/uploads/2024/06/signal-2024-06-16-23-03-07-483-e1720194868936.jpg
ORGANIZER;CN="Little Lab e.V.":MAILTO:mint@kreativlabor-freiham.de
END:VEVENT
END:VCALENDAR