BEGIN:VCALENDAR
VERSION:2.0
PRODID:-//Kreativlabor Freiham - ECPv6.15.20//NONSGML v1.0//EN
CALSCALE:GREGORIAN
METHOD:PUBLISH
X-WR-CALNAME:Kreativlabor Freiham
X-ORIGINAL-URL:https://kreativlabor-freiham.de
X-WR-CALDESC:Veranstaltungen für Kreativlabor Freiham
REFRESH-INTERVAL;VALUE=DURATION:PT1H
X-Robots-Tag:noindex
X-PUBLISHED-TTL:PT1H
BEGIN:VTIMEZONE
TZID:Europe/Berlin
BEGIN:DAYLIGHT
TZOFFSETFROM:+0100
TZOFFSETTO:+0200
TZNAME:CEST
DTSTART:20230326T010000
END:DAYLIGHT
BEGIN:STANDARD
TZOFFSETFROM:+0200
TZOFFSETTO:+0100
TZNAME:CET
DTSTART:20231029T010000
END:STANDARD
BEGIN:DAYLIGHT
TZOFFSETFROM:+0100
TZOFFSETTO:+0200
TZNAME:CEST
DTSTART:20240331T010000
END:DAYLIGHT
BEGIN:STANDARD
TZOFFSETFROM:+0200
TZOFFSETTO:+0100
TZNAME:CET
DTSTART:20241027T010000
END:STANDARD
BEGIN:DAYLIGHT
TZOFFSETFROM:+0100
TZOFFSETTO:+0200
TZNAME:CEST
DTSTART:20250330T010000
END:DAYLIGHT
BEGIN:STANDARD
TZOFFSETFROM:+0200
TZOFFSETTO:+0100
TZNAME:CET
DTSTART:20251026T010000
END:STANDARD
END:VTIMEZONE
BEGIN:VEVENT
DTSTART;TZID=Europe/Berlin:20240805T100000
DTEND;TZID=Europe/Berlin:20240809T160000
DTSTAMP:20260424T070904
CREATED:20240630T210858Z
LAST-MODIFIED:20240705T154738Z
UID:1535-1722852000-1723219200@kreativlabor-freiham.de
SUMMARY:Drohnen: Technik\, Programmieren\, Fliegen (13-18 Jahre)
DESCRIPTION:Während des Sommerkurses zur Drohnentechnik bekommst du eine aufregende Einführung in die Welt der Digitalisierung\, Aerodynamik und des autonomen Fliegens. Unter der Anleitung erlernst du den Umgang mit Drohnensystemen\, das Fliegen auf Sicht und mit Videobrille sowie die Programmierung und den sicheren Betrieb von Drohnen. Drohnen dienen dabei als Einstiegspunkt zu weiteren Themen wie 3D-Druck und Programmierung und bieten dir wertvolle Einblicke in zukunftsorientierte technische Berufsfelder. \nTickets: https://www.tickettailor.com/events/littlelab/1294901
URL:https://kreativlabor-freiham.de/termine-sin/drohnen-technik-programmieren-fliegen/
LOCATION:Kreativlabor Freiham\, Ute-Strittmatter-Straße 6\, München\, 81248\, Deutschland
ATTACH;FMTTYPE=image/jpeg:https://kreativlabor-freiham.de/wp-content/uploads/2024/06/drohne1-e1720194452894.jpg
ORGANIZER;CN="Little Lab e.V.":MAILTO:mint@kreativlabor-freiham.de
END:VEVENT
END:VCALENDAR